BEGIN:VCALENDAR
VERSION:2.0
PRODID:-//eventon.com NONSGML v1.0//EN
CALSCALE:GREGORIAN
METHOD:PUBLISH
BEGIN:VEVENT
UID:69e9c4500f00e
DTSTAMP:20260423T070344Z
DTSTART:20250328T010000Z
DTEND:20250328T040000Z
LOCATION:Bildungs- und Gästehaus der Dillinger Franziskanerinnen Kardinal-von-Waldburg-Str. 2\,  89407 Dillingen
SUMMARY:Geerdet und gehimmelt - wunderbar - Dillingen
DESCRIPTION:Ostern feiern: ja – aber wie erzähle ich den Kindern von Jes
 u Tod? Wie können die Kinder die letzten Tage Jesu bis hin zu seiner Aufer
 stehung sinnvoll nachvollziehen? Hier erhalten Sie mit der Franz-Kett-Päda
 gogik GSEB Impulse\,  wie Sie miteinander das Kreuz als Lebenskreuz entdeck
 en können: Verwurzelt mit der Erde\,  aufrecht[..]\nhttps://kita-pastoral.
 de/events/geerdet-und-gehimmelt-wunderbar-dillingen/
URL:https://kita-pastoral.de/events/geerdet-und-gehimmelt-wunderbar-dillingen/
END:VEVENT
END:VCALENDAR