BEGIN:VCALENDAR
VERSION:2.0
PRODID:-//eventon.com NONSGML v1.0//EN
CALSCALE:GREGORIAN
METHOD:PUBLISH
BEGIN:VEVENT
UID:69e4e4496b1c4
DTSTAMP:20260419T141849Z
DTSTART:20250219T200000Z
DTEND:20250220T030000Z
LOCATION:Pfarrheim St. Michael Rupertstrasse 10\,  87724 Ottobeuren
SUMMARY:Gottes wunderbare Schöpfung mit der Franz-Kett-Pädagogik GSEB ins Bild bringen - Ottobeuren
DESCRIPTION:Kinder erleben Schöpfung in praller Fülle. Regenpfützen und 
 Blumen\,  Sonnengeglitzer und Blätterdach… Dieses Staunen und Erleben de
 r Kinder wird religionspädagogisch mit der Franz-Kett-Pädagogik GSEB vert
 ieft. Sich über diese wunderbare Welt freuen\,  in Beziehung sein mit ihr 
 und den Mitmenschen\,  dankbar sein für Gottes wunderbare Welt\,  all das 
 findet Ausdruck in[..]\nhttps://kita-pastoral.de/events/gottes-wunderbare-s
 choepfung-mit-der-franz-kett-paedagogik-gseb-ins-bild-bringen-ottobeuren/
URL:https://kita-pastoral.de/events/gottes-wunderbare-schoepfung-mit-der-franz-kett-paedagogik-gseb-ins-bild-bringen-ottobeuren/
END:VEVENT
END:VCALENDAR