BEGIN:VCALENDAR
VERSION:2.0
PRODID:-//eventon.com NONSGML v1.0//EN
CALSCALE:GREGORIAN
METHOD:PUBLISH
BEGIN:VEVENT
UID:69e5795b3ced4
DTSTAMP:20260420T005451Z
DTSTART:20241120T193000Z
DTEND:20241120T223000Z
LOCATION:Kita St. Peter u. Paul\,  Gundelfingen Peterswörther Str. 96
SUMMARY:Teamfortbildung zur Weiterentwicklung des katholischen Profils - Gundelfingen
DESCRIPTION:Das kath. Profil gemeinsam mit allen Mitarbeitenden in den Blic
 k nehmen\,  Impulse diskutieren\,  Ideen weiterentwickeln und erste Schritt
 e verschriftlichen. Referentin: Renate Frauenknecht Unsere Geschäftsbeding
 ungen finden Sie hier.\nhttps://kita-pastoral.de/events/wachsen-auf-gutem-
 grund-einfuehrung-in-das-rahmenkonzept-zum-kath-profil-gundelfingen/
URL:https://kita-pastoral.de/events/wachsen-auf-gutem-grund-einfuehrung-in-das-rahmenkonzept-zum-kath-profil-gundelfingen/
END:VEVENT
END:VCALENDAR