BEGIN:VCALENDAR
VERSION:2.0
PRODID:-//eventon.com NONSGML v1.0//EN
CALSCALE:GREGORIAN
METHOD:PUBLISH
BEGIN:VEVENT
UID:69e556d79c6b6
DTSTAMP:20260419T222735Z
DTSTART:20241104T200000Z
DTEND:20241104T230000Z
LOCATION:Kinderhaus St. Mauritius Bgm. – Jäckle – Platz 6\,  89346 Bibertal (Kissendorf)
SUMMARY:Teamfortbildung zur Weiterentwicklung des katholischen Profils - Bibertal/Kissendorf
DESCRIPTION:Das kath. Profil gemeinsam mit allen Mitarbeitenden in den Blic
 k nehmen\,  Impulse diskutieren\,  Ideen weiterentwickeln und erste Schritt
 e verschriftlichen. Referentin: Renate Frauenknecht Unsere Geschäftsbeding
 ungen finden Sie hier.\nhttps://kita-pastoral.de/events/wachsen-auf-gutem-
 grund-einfuehrung-in-das-rahmenkonzept-zum-kath-profil-bibertal-kissendorf/
URL:https://kita-pastoral.de/events/wachsen-auf-gutem-grund-einfuehrung-in-das-rahmenkonzept-zum-kath-profil-bibertal-kissendorf/
END:VEVENT
END:VCALENDAR