BEGIN:VCALENDAR
VERSION:2.0
PRODID:-//eventon.com NONSGML v1.0//EN
CALSCALE:GREGORIAN
METHOD:PUBLISH
BEGIN:VEVENT
UID:69e88f37b7350
DTSTAMP:20260422T090455Z
DTSTART:20240603T150000Z
DTEND:20240603T180000Z
LOCATION:Kinderhaus St. Josef\,  Durach-Weidach Birkenstraße 10\,  87471 Durach-Weidach
SUMMARY:„Schau mal\,  wie schön!“  Staunen über unsere Kunstwerke und die\,  die ein anderer gemacht hat!  - Weidach
DESCRIPTION:In jedem Menschen steckt ein Künstler. Das zu entdecken und da
 rüber zu staunen\,  was ein jeder gut kann\,  schenkt den Kindern Mut und 
 Selbstvertrauen. Auch in der Natur gibt es viele Kunstwerke zu bewundern: s
 olche\,  die Menschen gemacht haben und solche\,  die woanders herkommen. A
 n diesem Fortbildungsnachmittag werden wir im[..]\nhttps://kita-pastoral.de
 /events/schau-mal-wie-schoen-staunen-ueber-unsere-kunstwerke-und-die-die-ei
 n-anderer-gemacht-hat-weidach/
URL:https://kita-pastoral.de/events/schau-mal-wie-schoen-staunen-ueber-unsere-kunstwerke-und-die-die-ein-anderer-gemacht-hat-weidach/
END:VEVENT
END:VCALENDAR