BEGIN:VCALENDAR
VERSION:2.0
PRODID:-//eventon.com NONSGML v1.0//EN
CALSCALE:GREGORIAN
METHOD:PUBLISH
BEGIN:VEVENT
UID:69e74e2bc7956
DTSTAMP:20260421T101507Z
DTSTART:20241021T200000Z
DTEND:20241022T033000Z
LOCATION:Exerzitienhaus St. Paulus Krippackerstr. 6\,  86391 Leitershofen
SUMMARY:Ich war das nicht! - Leitershofen
DESCRIPTION:Kinder fühlen sich meistens im Recht\,  angefangen hat der And
 ere. Mit den Gefühlen des unverstanden\,  hilflos und wütend seins zurech
 tzukommen und miteinander Lösungen zu suchen\,  dafür brauchen Kinder Unt
 erstützung. In Bilderbüchern und biblischen Erzählungen erleben Kinder\,
   wie Versöhnung möglich ist und wie Zusammenleben gelingt. Sie hören vo
 n einem Gott\,  der[..]\nhttps://kita-pastoral.de/events/ich-war-das-nicht-
 leitershofen/
URL:https://kita-pastoral.de/events/ich-war-das-nicht-leitershofen/
END:VEVENT
END:VCALENDAR