BEGIN:VCALENDAR
VERSION:2.0
PRODID:-//eventon.com NONSGML v1.0//EN
CALSCALE:GREGORIAN
METHOD:PUBLISH
BEGIN:VEVENT
UID:69e82882f0477
DTSTAMP:20260422T014642Z
DTSTART:20240123T210000Z
DTEND:20240125T033000Z
LOCATION:Bildungshaus St. Martin Klosterhof 8\,  82347 Bernried
SUMMARY:Echt Ich - Bernried
DESCRIPTION:Anspruchsvolle Alltagssituationen\,  Gefühle von Zerrissenheit
  und viele gute Vorsätze\,  die dann doch nicht so richtig funktionieren &
 #8211; höchste Zeit\,  auf sich selbst zu achten und die inneren Ressource
 n zu aktivieren. Das Zürcher Ressourcen Modell (ZRM®) hilft in einem ganz
 heitlichen Prozess herauszufinden\,  was Sie wirklich wollen und wie Sie es
  kraftvoll[..]\nhttps://kita-pastoral.de/events/echt-ich-bernried/
URL:https://kita-pastoral.de/events/echt-ich-bernried/
END:VEVENT
END:VCALENDAR