BEGIN:VCALENDAR
VERSION:2.0
PRODID:-//eventon.com NONSGML v1.0//EN
CALSCALE:GREGORIAN
METHOD:PUBLISH
BEGIN:VEVENT
UID:69e8a27781456
DTSTAMP:20260422T102703Z
DTSTART:20230926T030000Z
DTEND:20230926T060000Z
LOCATION:Haus für Kinder St. Georg\,  Lützelburg Bürgermeister-Falch-Straße 10\,  86456 Lützelburg
SUMMARY:`Wachsen auf gutem Grund. Einführung in das Rahmenkonzept zum kath. Profil´- Lützelburg
DESCRIPTION:Einführung in das Rahmenkonzept &#8222;Wachsen auf gutem Grund
  &#8211; Weiterentwicklung des Katholischen Profils&#8220; für den Kinderg
 arten Referentin: Frau Frauenknecht\,  (zu erreichen über Telefon 0906 706
 28-74 oder per Mail: kitapastoral-nord@bistum-augsburg.de) Unsere Geschäft
 sbedingungen finden Sie hier.\nhttps://kita-pastoral.de/events/wachsen-auf
 -gutem-grund-einfuehrung-in-das-rahmenkonzept-zum-kath-profil-luetzelburg/
URL:https://kita-pastoral.de/events/wachsen-auf-gutem-grund-einfuehrung-in-das-rahmenkonzept-zum-kath-profil-luetzelburg/
END:VEVENT
END:VCALENDAR