BEGIN:VCALENDAR
VERSION:2.0
PRODID:-//eventon.com NONSGML v1.0//EN
CALSCALE:GREGORIAN
METHOD:PUBLISH
BEGIN:VEVENT
UID:69e73b191ba12
DTSTAMP:20260421T085345Z
DTSTART:20230206T200000Z
DTEND:20230206T230000Z
LOCATION:Gemeindehaus Kontakt\,  Neu-Ulm Karlsbaderstraße 22\,  Ludwigsfeld\,  89231 Neu-Ulm
SUMMARY:Wie mit neuen Augen sehen - Ostern entgegen - Neu-Ulm
DESCRIPTION:Verwandlung und Neubeginn\,  das verbinden wir mit der Fastenze
 it und Ostern. An diesem Vormittag werden Impulse und Lieder aus der „Fra
 nz-Kett-Pädagogik GSEB“ ausprobiert und gesungen\,  um die Kinder für d
 as Osterwunder zu sensibilisieren. Das Symbol des Samenkorns\,  das in die 
 Erde fällt und daraus Neues entsteht\,  wird das Thema veranschaulichen.[.
 .]\nhttps://kita-pastoral.de/events/wie-mit-neuen-augen-sehen-ostern-entgeg
 en-neu-ulm/
URL:https://kita-pastoral.de/events/wie-mit-neuen-augen-sehen-ostern-entgegen-neu-ulm/
END:VEVENT
END:VCALENDAR