BEGIN:VCALENDAR
VERSION:2.0
PRODID:-//eventon.com NONSGML v1.0//EN
CALSCALE:GREGORIAN
METHOD:PUBLISH
BEGIN:VEVENT
UID:69e602dbbed59
DTSTAMP:20260420T104131Z
DTSTART:20230420T200000Z
DTEND:20230421T033000Z
LOCATION:St. Raphael im Allgäu Bischof-Freundorfer-Weg 24\,  87439 Kempten
SUMMARY:Was glaubst denn du? - Kempten
DESCRIPTION:Kinder erleben ein vielfältig kulturell und religiös geprägt
 es Umfeld. Insbesondere in der Kindertageseinrichtung kommen sie in Kontakt
  mit anderen Religionen\,  vor allem mit dem Islam. Das hat Auswirkungen au
 f die religiöse Bildungsarbeit: Sollen die muslimischen Kinder bei den bib
 lischen Geschichten mitmachen? Was tun\,  wenn der Ramadan beginnt? Wie kö
 nnen wir[..]\nhttps://kita-pastoral.de/events/was-glaubst-denn-du-kempten-2
 /
URL:https://kita-pastoral.de/events/was-glaubst-denn-du-kempten-2/
END:VEVENT
END:VCALENDAR