BEGIN:VCALENDAR
VERSION:2.0
PRODID:-//eventon.com NONSGML v1.0//EN
CALSCALE:GREGORIAN
METHOD:PUBLISH
BEGIN:VEVENT
UID:69e73b6882ffc
DTSTAMP:20260421T085504Z
DTSTART:20230111T200000Z
DTEND:20230112T033000Z
LOCATION:Exerzitienhaus St. Paulus Krippackerstr. 6\,  86391 Leitershofen
SUMMARY:Katholisch für Aufgeweckte - Leitershofen
DESCRIPTION:Sie arbeiten in einer katholischen Einrichtung. Vieles wird Ihn
 en vertraut sein\,  doch manches Mal stolpern Sie über bestimmte Begriffe\
 ,  Rituale oder sonstige kirchliche Besonderheiten. Nach dem Motto der Sesa
 mstraße würden Sie am liebsten fragen: Wer? Wie? Was? Wieso? Weshalb? War
 um? &#8211; Wer nicht fragt bleibt dumm. Die Fortbildung kommt diesen[..]\n
 https://kita-pastoral.de/events/katholisch-fuer-aufgeweckte-leitershofen/
URL:https://kita-pastoral.de/events/katholisch-fuer-aufgeweckte-leitershofen/
END:VEVENT
END:VCALENDAR