BEGIN:VCALENDAR
VERSION:2.0
PRODID:-//eventon.com NONSGML v1.0//EN
CALSCALE:GREGORIAN
METHOD:PUBLISH
BEGIN:VEVENT
UID:69e4d8d851a34
DTSTAMP:20260419T133000Z
DTSTART:20221031T200000Z
DTEND:20221101T030000Z
LOCATION:Pfarrheim St. Stephan\,  Mindelheim Pfarrstraße 14\,  87719 Mindelheim
SUMMARY:Das Kirchenjahr - so bunt wie unser Leben - Die Feste im Jahreskreis verstehen und gestalten - Mindelheim
DESCRIPTION:Das Kirchenjahr ist vielfältig wie unser Leben. Alle Facetten 
 finden darin ihren Platz: sich freuen und leiden\,  (er)warten und empfange
 n\,  verzichten und die Fülle genießen. Das Kirchenjahr glänzt durch sin
 nfrohe Feste\,  in denen die christliche Botschaft &#8222;eingewoben&#8220;
  ist. Sie eröffnen viele Möglichkeiten zu einer kindgerechten Gestaltung.
  Sich damit und mit[..]\nhttps://kita-pastoral.de/events/das-kirchenjahr-so
 -bunt-wie-unser-leben-die-feste-im-jahreskreis-verstehen-und-gestalten-mind
 elheim/
URL:https://kita-pastoral.de/events/das-kirchenjahr-so-bunt-wie-unser-leben-die-feste-im-jahreskreis-verstehen-und-gestalten-mindelheim/
END:VEVENT
END:VCALENDAR