BEGIN:VCALENDAR
VERSION:2.0
PRODID:-//eventon.com NONSGML v1.0//EN
CALSCALE:GREGORIAN
METHOD:PUBLISH
BEGIN:VEVENT
UID:69e4df9351ec7
DTSTAMP:20260419T135843Z
DTSTART:20220913T030000Z
DTEND:20220913T060000Z
LOCATION:Kita St. Johannes\,  Aichach-Oberbernbach Sandstr. 1\,  86551 Aichach-Oberbernbach
SUMMARY:`Wachsen auf gutem Grund. Einführung in das Rahmenkonzept zum kath. Profil´- Aichach-Oberbernbach
DESCRIPTION:Einführung in das Rahmenkonzept &#8222;Wachsen auf gutem Grund
  &#8211; Weiterentwicklung des Katholischen Profils&#8220; für den Kinderg
 arten Referentin: Frau Frauenknecht\,  (zu erreichen über Telefon 0906 706
 28-74 oder per Mail: kitapastoral-nord@bistum-augsburg.de)\nhttps://kita-pa
 storal.de/events/wachsen-auf-gutem-grund-einfuehrung-in-das-rahmenkonzept-z
 um-kath-profil-aichach-oberbernbach/
URL:https://kita-pastoral.de/events/wachsen-auf-gutem-grund-einfuehrung-in-das-rahmenkonzept-zum-kath-profil-aichach-oberbernbach/
END:VEVENT
END:VCALENDAR