BEGIN:VCALENDAR
VERSION:2.0
PRODID:-//eventon.com NONSGML v1.0//EN
CALSCALE:GREGORIAN
METHOD:PUBLISH
BEGIN:VEVENT
UID:69e9a47c325ab
DTSTAMP:20260423T044756Z
DTSTART:20210225T140000Z
DTEND:20210225T170000Z
LOCATION:Tagungshaus Maria Beinberg Beinberg 3\,  86565 Gachenbach
SUMMARY:Komm mit\,  wir suchen einen Schatz - Gachenbach
DESCRIPTION:Die Bibel ist voller Lebens- und Glaubensschätze\,  die immer 
 wieder neu entdeckt und gedeutet werden wollen. Kinder lieben Erzählungen 
 und sind offen für die Botschaft der Bibel in der Gottes Liebe und seine l
 ebens- und mutmachende Zusage kraftvoll zum Ausdruck kommt. Am Ende des Sem
 inars&#8230; verfügen Sie über Grundkenntnisse zur[..]\nhttps://kita-past
 oral.de/events/komm-mit-wir-suchen-einen-schatz-gachenbach/
URL:https://kita-pastoral.de/events/komm-mit-wir-suchen-einen-schatz-gachenbach/
END:VEVENT
END:VCALENDAR