BEGIN:VCALENDAR
VERSION:2.0
PRODID:-//eventon.com NONSGML v1.0//EN
CALSCALE:GREGORIAN
METHOD:PUBLISH
BEGIN:VEVENT
UID:69ec9a41bcada
DTSTAMP:20260425T104105Z
DTSTART:20211130T090000Z
DTEND:20211130T163000Z
LOCATION:Exerzitienhaus St. Paulus Krippackerstr. 6\,  86391 Leitershofen
SUMMARY:Ins Herz geschrieben - Leitershofen
DESCRIPTION:Gute Worte tragen durch den Tag\,  wecken Hoffnung\,  trösten 
 und machen den Blick frei. Ein ausgeählter Psalmvers oder ein Segensspruch
  findet durch kreatives kalligraphisches Gestalten eine ausdrucksstarke äu
 ßere Form und wird gleichzeitig meditativ verinnerlicht. Am Ende des Semin
 ars … werden Sie Abstand zum Alltag gewonnen haben. werden Sie einen pers
 önlichen[..]\nhttps://kita-pastoral.de/events/ins-herz-geschrieben-leiters
 hofen/
URL:https://kita-pastoral.de/events/ins-herz-geschrieben-leitershofen/
END:VEVENT
END:VCALENDAR