BEGIN:VCALENDAR
VERSION:2.0
PRODID:-//eventon.com NONSGML v1.0//EN
CALSCALE:GREGORIAN
METHOD:PUBLISH
BEGIN:VEVENT
UID:69e8a2915aef7
DTSTAMP:20260422T102729Z
DTSTART:20210621T090000Z
DTEND:20210621T163000Z
LOCATION:digital
SUMMARY:Hast du gemerkt\,  wie gut du das gemacht hast? - Digital
DESCRIPTION:Eine wertschätzende\,  ermutigende Haltung\,  tragfähige Bezi
 ehungen und die Wahrnehmung der individuellen Entwicklung eines jeden Kinde
 s sind die Grundlage für eine gelingende Erziehung und Bildung. Auf der Gr
 undlage des Kurses KESS-erziehen (www.kess-erziehen.de) wird an praxisnahen
  Beispielen die eigene professionelle Haltung unterstützt. Am Ende des Sem
 inars … werden Sie das positive Lebensgefühl[..]\nhttps://kita-pastoral.
 de/events/hast-du-gemerkt-wie-gut-du-das-gemacht-hast-leitershofen-copy/
URL:https://kita-pastoral.de/events/hast-du-gemerkt-wie-gut-du-das-gemacht-hast-leitershofen-copy/
END:VEVENT
END:VCALENDAR