BEGIN:VCALENDAR
VERSION:2.0
PRODID:-//eventon.com NONSGML v1.0//EN
CALSCALE:GREGORIAN
METHOD:PUBLISH
BEGIN:VEVENT
UID:69e601a498a62
DTSTAMP:20260420T103620Z
DTSTART:20210311T090000Z
DTEND:20210311T163000Z
LOCATION:Caritashaus Auf dem Kreuz 41\,  86152  Augsburg
SUMMARY:Du und Ich im bunten Jahr - Augsburg
DESCRIPTION:Ideen und Vorschläge von Erzieher*innen wurden in einem neuen 
 Buch zum Jahreskreis nun umgesetzt. Lieder zum Ruhigwerden\,  Aufräumen\, 
  für Sommerfest und Lagerfeuer finden sich darin ebenso wie ein Lied für 
 Oma und Opa oder ein englisches &#8222;Guten-Morgen-Lied&#8220;. Aber auch 
 Themen wie &#8222;Geschwisterkonflikt&#8220;\,  Trauer oder die Angst sich 
 etwas zuzutrauen. Natürlich[..]\nhttps://kita-pastoral.de/events/du-und-ic
 h-im-bunten-jahr-augsburg-2/
URL:https://kita-pastoral.de/events/du-und-ich-im-bunten-jahr-augsburg-2/
END:VEVENT
END:VCALENDAR