BEGIN:VCALENDAR
VERSION:2.0
PRODID:-//eventon.com NONSGML v1.0//EN
CALSCALE:GREGORIAN
METHOD:PUBLISH
BEGIN:VEVENT
UID:69ed7e0fafb7d
DTSTAMP:20260426T025303Z
DTSTART:20200219T090000Z
DTEND:20200219T160000Z
LOCATION:Haus Sankt Ulrich Kappelberg 1\,  86150 Augsburg
SUMMARY:Andere Zeiten - Die Feste im Jahreskreis verstehen und gestalten - Augsburg
DESCRIPTION:Feste rhytmisieren die Zeit\,  unterbrechen den Alltag und erö
 ffnen für alle Sinne ein MEHR an Leben. Doch wie hängen Fasching und Oste
 rn zusammen? Was genau wird an Pfingsten gefeiert? Hintergrundinformationen
  und Anregungen für eine kind- und religionssensible Gestaltung in der Kit
 a. Referentin: Margret Färber  \nhttps://kita-pastoral.de/events/andere-z
 eiten-die-feste-im-jahreskreis-verstehen-und-gestalten-augsburg/
URL:https://kita-pastoral.de/events/andere-zeiten-die-feste-im-jahreskreis-verstehen-und-gestalten-augsburg/
END:VEVENT
END:VCALENDAR