BEGIN:VCALENDAR
VERSION:2.0
PRODID:-//eventon.com NONSGML v1.0//EN
CALSCALE:GREGORIAN
METHOD:PUBLISH
BEGIN:VEVENT
UID:69e5eef209ecd
DTSTAMP:20260420T091634Z
DTSTART:20200424T140000Z
DTEND:20200424T170000Z
LOCATION:Pfarrstadl Weßling Am Kreuzberg 3\,  82234 Weßling
SUMMARY:Wie schön ist Gottes Welt - Weßling
DESCRIPTION:Wo kommt alles her? Wo geht alles hin? Wie hat alles angefangen
 ? Wozu ist alles da? Wer hat sich alles ausgedacht? – Gott hat sich alles
  ausgedacht: Die Sonne\,  die Sterne\,  das Meer\,  die Blumen\,  die Tiere
 \,  uns Menschen. Wir lassen uns an diesem Nachmittag von Gottes Schöpfung
  inspirieren und[..]\nhttps://kita-pastoral.de/events/wie-schoen-ist-gottes
 -welt-kempten/
URL:https://kita-pastoral.de/events/wie-schoen-ist-gottes-welt-kempten/
END:VEVENT
END:VCALENDAR